Workbook

Sheet Inleiding
A1: Maatregelen binnen de scope van de uitgaventoetsingen "Evaluatie van de organisatie van de financiering van strategisch basisonderzoek" en "Evaluatie van de valorisatie van O&O van de universiteiten en hogescholen ten bate van de Vlaamse economie"
C2: Jaar t-5 | D2: Jaar t-4 | E2: Jaar t-3 | F2: Jaar t-2 | G2: Jaar t-1 | H2: Jaar t | I2: Jaar t+1 | J2: Jaar t+2 | K2: Jaar t+3 | L2: Jaar t+4 | M2: Jaar t+5
C3: 2020 | D3: 2021 | E3: 2022 | F3: 2023 | G3: 2024 | H3: 2025 | I3: 2026 (BO) | J3: 2027 | K3: 2028 | L3: 2029 | M3: 2030
A4: Situatie as is | C4: Realisatiecijfers | D4: Realisatiecijfers | E4: Realisatiecijfers | F4: Realisatiecijfers | G4: Realisatiecijfers | H4: Raming | I4: Raming | J4: Raming | K4: Raming | L4: Raming | M4: Raming
A5: Beleidskost maatregel (*) | B5: (a) | C5: ='Detailinfo beleidsmaatregelen'!X42 -> 544.3739 | D5: ='Detailinfo beleidsmaatregelen'!Y42 -> 560.62504 | E5: ='Detailinfo beleidsmaatregelen'!Z42 -> 616.04535 | F5: ='Detailinfo beleidsmaatregelen'!AA42 -> 666.56885 | G5: ='Detailinfo beleidsmaatregelen'!AB42 -> 711.58983 | H5: ='Detailinfo beleidsmaatregelen'!AC42 -> 723.15053 | I5: ='Detailinfo beleidsmaatregelen'!AF42 -> 728.675 | J5: =I5*1.018 -> 741.79115 | K5: =J5*1.018 -> 755.14339 | L5: =K5*1.018 -> 768.73597 | M5: =L5*1.018 -> 782.57322
A6: Kost voor beheer van de maatregel (personeel, werking, …) | B6: (b)
A7: Indien van toepassing: kost voor consultancy | B7: (c)
A8: Totale kost | B8: (d=a+b+c) | C8: =SUM(C5:C7) -> 544.3739 | D8: =SUM(D5:D7) -> 560.62504 | E8: =SUM(E5:E7) -> 616.04535 | F8: =SUM(F5:F7) -> 666.56885 | G8: =SUM(G5:G7) -> 711.58983 | H8: =SUM(H5:H7) -> 723.15053 | I8: =SUM(I5:I7) -> 728.675 | J8: =SUM(J5:J7) -> 741.79115 | ... M8: =SUM(M5:M7) -> 782.57322
A10: (*) Het detail voor de periode 2020-2025 en voor BO 2026 is opgenomen in een extra tabblad en is voor de periode 2020-2025 ook opgenomen in het rapport over beide uitgaventoetsingen
A11: Middelen voor 2026 zijn gebaseerd op BO 2026, behalve voor de middelen 2026 van de clusters (beperkt tot SBO in termen van toegekende steun) waarvoor VLAOIO een raming heeft doorgegeven
A12: Ramingen voor de periode 2027-2030 zijn gebaseerd op een indexering ten opzichte van vorig begrotingsjaar à rato van 1,8%
A13: Er zijn onvoldoende gegevens beschikbaar om een raming te kunnen maken van de beheerskosten en de consultancykosten van de maatregelen binnen de scope ervan deze uitgaventoetsingen

Sheet Besparingsvarianten
A1: Maatregelen binnen de scope van de uitgaventoetsingen "Evaluatie van de organisatie van de financiering van strategisch basisonderzoek" en "Evaluatie van de valorisatie van O&O van de universiteiten en hogescholen ten bate van de Vlaamse economie"
C3: Jaar t-5 | D3: Jaar t-4 | E3: Jaar t-3 | F3: Jaar t-2 | G3: Jaar t-1 | H3: Jaar t | I3: Jaar t+1 | J3: Jaar t+2 | K3: Jaar t+3 | L3: Jaar t+4 | M3: Jaar t+5
C4: 2020 | D4: 2021 | E4: 2022 | F4: 2023 | G4: 2024 | H4: 2025 | I4: 2026 (BO) | J4: 2027 | K4: 2028 | L4: 2029 | M4: 2030
A5: Situatie as is | C5: Realisatiecijfers | D5: Realisatiecijfers | E5: Realisatiecijfers | F5: Realisatiecijfers | G5: Realisatiecijfers | H5: Raming | I5: Raming | J5: Raming | K5: Raming | L5: Raming | M5: Raming
A6: Beleidskost maatregel | B6: (a) | C6: =Inleiding!C5 -> 544.3739 | D6: =Inleiding!D5 -> 560.62504 | E6: =Inleiding!E5 -> 616.04535 | F6: =Inleiding!F5 -> 666.56885 | G6: =Inleiding!G5 -> 711.58983 | H6: =Inleiding!H5 -> 723.15053 | I6: =Inleiding!I5 -> 728.675 | J6: =I6*1.018 -> 741.79115 | K6: =J6*1.018 -> 755.14339 | L6: =K6*1.018 -> 768.73597 | M6: =L6*1.018 -> 782.57322
A7: Kost voor beheer van de maatregel (personeel, werking, …) | B7: (b)
A8: Indien van toepassing: kost voor consultancy | B8: (c)
A9: Totale kost | B9: (d=a+b+c) | C9: =SUM(C6:C8) -> 544.3739 | D9: =SUM(D6:D8) -> 560.62504 | E9: =SUM(E6:E8) -> 616.04535 | F9: =SUM(F6:F8) -> 666.56885 | G9: =SUM(G6:G8) -> 711.58983 | H9: =SUM(H6:H8) -> 723.15053 | I9: =SUM(I6:I8) -> 728.675 | J9: =SUM(J6:J8) -> 741.79115 | ... M9: =SUM(M6:M8) -> 782.57322
A11: Scenario "Valorisatieversterking als gezamenlijk engagement van alle O&O&I-actoren" (= scenario 2 in de eindrapportering) | C11: Realisatiecijfers | D11: Realisatiecijfers | E11: Realisatiecijfers | F11: Realisatiecijfers | G11: Realisatiecijfers | H11: Raming | I11: Raming | J11: Raming | K11: Raming | L11: Raming | M11: Raming
A12: Beleidskost maatregel | B12: (a) | C12: =Inleiding!C5 -> 544.3739 | D12: =Inleiding!D5 -> 560.62504 | E12: =Inleiding!E5 -> 616.04535 | F12: =Inleiding!F5 -> 666.56885 | G12: =Inleiding!G5 -> 711.58983 | H12: =Inleiding!H5 -> 723.15053 | I12: =Inleiding!I5 -> 728.675 | J12: =I12*1.018 -> 741.79115 | K12: =J12*1.018 -> 755.14339 | L12: =K12*1.018 -> 768.73597 | M12: =L12*1.018 -> 782.57322
A13: Kost voor beheer van de maatregel (personeel, werking, …) | B13: (b)
A14: Indien van toepassing: kost voor consultancy | B14: (c)
A15: Totale kost | B15: (d=a+b+c) | C15: =SUM(C12:C14) -> 544.3739 | D15: =SUM(D12:D14) -> 560.62504 | E15: =SUM(E12:E14) -> 616.04535 | F15: =SUM(F12:F14) -> 666.56885 | G15: =SUM(G12:G14) -> 711.58983 | H15: =SUM(H12:H14) -> 723.15053 | I15: =SUM(I12:I14) -> 728.675 | J15: =SUM(J12:J14) -> 741.79115 | ... M15: =SUM(M12:M14) -> 782.57322
A16: Dit scenario leidt na invoering van de voorgestelde beleidsopties tot meerinkomsten voor de Vlaamse overheid op korte, middellange en lange termijn
A19: Scenario "Lineaire besparing van 10% in 2027" of "Gerichte afbouw met een totaalbesparing van 10% in 2027" (= scenario's 3a en 3b in de eindrappportering) | C19: Realisatiecijfers | D19: Realisatiecijfers | E19: Realisatiecijfers | F19: Realisatiecijfers | G19: Realisatiecijfers | H19: Raming | I19: Raming | J19: Raming | K19: Raming | L19: Raming | M19: Raming
A20: Beleidskost maatregel | B20: (a) | C20: =Inleiding!C5 -> 544.3739 | D20: =Inleiding!D5 -> 560.62504 | E20: =Inleiding!E5 -> 616.04535 | F20: =Inleiding!F5 -> 666.56885 | G20: =Inleiding!G5 -> 711.58983 | H20: =Inleiding!H5 -> 723.15053 | I20: =Inleiding!I5 -> 728.675 | J20: =I20*0.9 -> 655.8075 | K20: =J20*1.018 -> 667.61203 | L20: =K20*1.018 -> 679.62905 | M20: =L20*1.018 -> 691.86237
A21: Kost voor beheer van de maatregel (personeel, werking, …) | B21: (b)
A22: Indien van toepassing: kost voor consultancy | B22: (c)
A23: Totale kost | B23: (d=a+b+c) | C23: =SUM(C20:C22) -> 544.3739 | D23: =SUM(D20:D22) -> 560.62504 | E23: =SUM(E20:E22) -> 616.04535 | F23: =SUM(F20:F22) -> 666.56885 | G23: =SUM(G20:G22) -> 711.58983 | H23: =SUM(H20:H22) -> 723.15053 | I23: =SUM(I20:I22) -> 728.675 | J23: =SUM(J20:J22) -> 655.8075 | ... M23: =SUM(M20:M22) -> 691.86237
A24: Dit scenario leidt tot een disruptie van het Vlaamse O&O&I-systeem en tot een daling van de inkomsten van de Vlaamse overheid. Verder betekent dit scenario ook minder industriële inkomsten en inkomsten uit EU-programma's voor de actoren in dit systeem.

Sheet Conclusie
A1: Maatregelen binnen de scope van de uitgaventoetsingen "Evaluatie van de organisatie van de financiering van strategisch basisonderzoek" en "Evaluatie van de valorisatie van O&O van de universiteiten en hogescholen ten bate van de Vlaamse economie"
C3: Jaar t | D3: Jaar t+1 | E3: Jaar t+2 | F3: Jaar t+3 | G3: Jaar t+4 | H3: Jaar t+5
C4: 2025 | D4: 2026 (BO) | E4: 2027 | F4: 2028 | G4: 2029 | H4: 2030
C5: Raming | D5: Raming | E5: Raming | F5: Raming | G5: Raming | H5: Raming
A6: Totale kost: situatie as is | B6: (a) | C6: =Besparingsvarianten!H6 -> 723.15053 | D6: =Besparingsvarianten!I6 -> 728.675 | E6: =Besparingsvarianten!J6 -> 741.79115 | F6: =Besparingsvarianten!K6 -> 755.14339 | G6: =Besparingsvarianten!L6 -> 768.73597 | H6: =Besparingsvarianten!M6 -> 782.57322
A7: Totale kost scenario "Valorisatieversterking als gezamenlijk engagement van alle O&O&I-actoren" | B7: (b) | C7: =Besparingsvarianten!H6 -> 723.15053 | D7: =Besparingsvarianten!I6 -> 728.675 | E7: =Besparingsvarianten!J6 -> 741.79115 | F7: =Besparingsvarianten!K6 -> 755.14339 | G7: =Besparingsvarianten!L6 -> 768.73597 | H7: =Besparingsvarianten!M6 -> 782.57322
A8: Minderkost van dit scenario | B8: (c=b-a) | C8: =C7-C6 -> 0 | D8: =D7-D6 -> 0 | E8: =E7-E6 -> 0 | F8: =F7-F6 -> 0 | G8: =G7-G6 -> 0 | H8: =H7-H6 -> 0
A9: Totale kost scenario "Lineaire besparing van 10% in 2027" of "Gerichte afbouw met een totaalbesparing van 10% in 2027" | B9: (d) | C9: =Besparingsvarianten!H20 -> 723.15053 | D9: =Besparingsvarianten!I20 -> 728.675 | E9: =Besparingsvarianten!J20 -> 655.8075 | F9: =Besparingsvarianten!K20 -> 667.61203 | G9: =Besparingsvarianten!L20 -> 679.62905 | H9: =Besparingsvarianten!M20 -> 691.86237
A10: Minderkost van dit scenario | B10: (e=d-a) | C10: =C9-C6 -> 0 | D10: =D9-D6 -> 0 | E10: =E9-E6 -> -85.98365 | F10: =F9-F6 -> -87.531356 | G10: =G9-G6 -> -89.10692 | H10: =H9-H6 -> -90.710845
A12: De projectgroepen stellen voor te opteren voor het scenario ""Valorisatieversterking als gezamenlijk engagement van alle O&O&I-actoren" (zie ook eindrapportering)

Sheet Detailinfo beleidsmaatregelen
A1: Maatregelen binnen de scope van uitgaventoetsingen "Evaluatie van de organisatie van de financiering van strategisch basisonderzoek" en "Evaluatie van de valorisatie van O&O van de universiteiten en hogescholen ten bate van de Vlaamse economie" | B1: Org & fin SBO | C1: Valorisatie O&O bij uniefs en hogescholen | D1: Beide UT | I1: Org & fin SBO | J1: Valorisatie O&O bij uniefs en hogescholen | K1: Beide UT | P1: Org & fin SBO | Q1: Valorisatie O&O bij uniefs en hogescholen | R1: Beide UT | W1: Org & fin SBO | X1: Valorisatie O&O bij uniefs en hogescholen | Y1: Beide UT
A2: Definitieve kredieten 2019 - 2024; begrotingsaanpassing 2026/ budgetten in miljoen euro
B3: O&O | I3: O&V | P3: W&T
A4: I. VIA HET DEPARTEMENT (EWI/)WEWIS | B4: 2019 | C4: 2020 | D4: 2021 | E4: 2022 | F4: 2023 | G4: 2024 | H4: 2025 | I4: 2019 | J4: 2020 | K4: 2021 | L4: 2022 | M4: 2023 | N4: 2024 | O4: 2025 | P4: 2019 | Q4: 2020 | R4: 2021 | S4: 2022 | T4: 2023 | U4: 2024 | V4: 2025 | W4: 2019 | X4: 2020 | Y4: 2021 | Z4: 2022 | AA4: 2023 | AB4: 2024 | AC4: BA 2025 | AD4: TOTAAL | AF4: BO 2026
A5: A. Open financieringskanalen op initiatief van de ONDERZOEKER (voornamelijk bij een universiteit) voor strategisch basis- en toegepast onderzoek evenals voor valorisatie
A6: 1. FWO (voornamelijk de 5 universiteiten)
A7: FWO Strategisch Basisonderzoek - projecten | B7: 74.472 | C7: 75.238 | D7: 81.236 | E7: 81.607 | F7: 86.8 | G7: 93.709 | H7: 93.434 | I7: 0 | J7: 0 | N7: 0 | P7: 0 | Q7: 0 | U7: 0 | W7: 40.329707 | X7: 37.738488 | Y7: 38.312245 | Z7: 40.477706 | AA7: 41.884127 | AB7: 45.13491 | AC7: 44.431663 | AD7: =SUM(W7:AC7) -> 288.30885 | AF7: 94.96 | AG7: SBO globaal (mandaten, projecten en thematisch)
A8: FWO Strategisch Basisonderzoek - mandaten | W8: 37.530511 | X8: 37.752409 | Y8: 38.971556 | Z8: 39.698544 | AA8: 42.818538 | AB8: 42.249632 | AC8: 43.398867 | AD8: =SUM(W8:AC8) -> 282.42006
A9: FWO Toegepast Biomedisch Onderzoek | B9: 11.46 | C9: 11.65 | D9: 11.81 | E9: 12.86 | F9: 13.58 | G9: 14.07 | H9: 14.62 | I9: 0 | J9: 0 | N9: 0 | P9: 0 | Q9: 0 | U9: 0 | W9: =B9+I9+P9 -> 11.46 | X9: =C9+J9+Q9 -> 11.65 | Y9: =D9+K9+R9 -> 11.81 | Z9: =E9+L9+S9 -> 12.86 | AA9: =F9+M9+T9 -> 13.58 | AB9: =G9+N9+U9 -> 14.07 | AC9: =H9+O9+V9 -> 14.62 | AD9: =SUM(W9:AC9) -> 90.05 | AF9: =21-6.2 -> 14.8
A10: 2. Industriële Onderzoeksfondsen (IOF) (bij de vijf associaties)
A11: Interfaceactiviteiten | I11: 0 | J11: 0 | N11: 0 | O11: 0 | P11: 4.529 | Q11: 4.494 | R11: 4.494 | S11: 4.494 | T11: 5.403314 | U11: 6.85 | V11: 6.969 | W11: =B11+I11+P11 -> 4.529 | X11: =C11+J11+Q11 -> 4.494 | Y11: =D11+K11+R11 -> 4.494 | Z11: =E11+L11+S11 -> 4.494 | AA11: =F11+M11+T11 -> 5.403314 | AB11: =G11+N11+U11 -> 6.85 | AC11: 7.02 | AD11: =SUM(W11:AC11) -> 37.284314 | AF11: 7.072
A12: Industriële onderzoeksfondsen (Projecten en mandaten) | B12: 53.318 | C12: 51.855 | D12: 52.311 | E12: 55.274 | F12: 61.419686 | G12: 61.645 | H12: 62.712 | I12: 0 | J12: 0 | N12: 0 | O12: 0 | P12: 0 | Q12: 0 | U12: 0 | V12: 0 | W12: =B12+I12+P12 -> 53.318 | X12: =C12+J12+Q12 -> 51.855 | Y12: =D12+K12+R12 -> 52.311 | Z12: =E12+L12+S12 -> 55.274 | AA12: =F12+M12+T12 -> 61.419686 | AB12: =G12+N12+U12 -> 61.645 | AC12: 63.17 | AD12: =SUM(W12:AC12) -> 398.99269 | AF12: 70.672
A14: B. De financiering van de vier strategische onderzoekscentra (SOC's), die een brugfunctie vervullen tussen fundamenteel en toegepast onderzoek (basissubsidie en O&O-opstappen en -provisies)
A15: Flanders Make | B15: 25.136 | C15: 31.719 | D15: 38.488 | E15: 47.423 | F15: 57.18 | G15: 53.967 | H15: 54.944 | I15: 0 | J15: 0 | N15: 0 | O15: 0 | P15: 0 | Q15: 0 | U15: 0 | V15: 0 | W15: =B15+I15+P15 -> 25.136 | X15: =C15+J15+Q15 -> 31.719 | Y15: =D15+K15+R15 -> 38.488 | Z15: =E15+L15+S15 -> 47.423 | AA15: =F15+M15+T15 -> 57.18 | AB15: =G15+N15+U15 -> 53.967 | AC15: 54.992 | AD15: =SUM(W15:AC15) -> 308.905 | AF15: 55.8
A16: imec | B16: 112.358 | C16: 112.409 | D16: 111.621 | E16: 135.791 | F16: 141.889 | G16: 147.709 | H16: 155.404 | I16: 0 | J16: 0 | L16: 0 | N16: 0 | O16: 0 | P16: 0 | Q16: 0 | S16: 0 | T16: 0.544 | U16: 0 | V16: 0 | W16: =B16+I16+P16 -> 112.358 | X16: =C16+J16+Q16 -> 112.409 | Y16: =D16+K16+R16 -> 111.621 | Z16: =E16+L16+S16 -> 135.791 | AA16: =F16+M16+T16 -> 142.433 | AB16: =G16+N16+U16 -> 147.709 | AC16: 155.55 | AD16: =SUM(W16:AC16) -> 917.871 | AF16: 159.9
A17: VIB | B17: 62.696 | C17: 60.877 | D17: 62.575 | E17: 78.326 | F17: 85.293 | G17: 86.384 | H17: 87.969 | I17: 0 | J17: 0 | N17: 0 | O17: 0 | P17: 0 | Q17: 0 | U17: 0 | V17: 0 | W17: =B17+I17+P17 -> 62.696 | X17: =C17+J17+Q17 -> 60.877 | Y17: =D17+K17+R17 -> 62.575 | Z17: =E17+L17+S17 -> 78.326 | AA17: =F17+M17+T17 -> 85.293 | AB17: =G17+N17+U17 -> 86.384 | AC17: 88.047 | AD17: =SUM(W17:AC17) -> 524.198 | AF17: 89.421
A18: VITO (excl. subsidie referentietaken) | B18: 41.704 | C18: 45.303 | D18: 49.040235 | E18: 55.764198 | F18: =60.145-6 -> 54.145 | G18: 63.822 | H18: 64.952 | I18: 0 | J18: 0 | N18: 0 | O18: 0 | P18: 0 | Q18: 0 | U18: 0 | V18: 3 | W18: =B18+I18+P18 -> 41.704 | X18: =C18+J18+Q18 -> 45.303 | Y18: =D18+K18+R18 -> 49.040235 | Z18: =E18+L18+S18 -> 55.764198 | AA18: =F18+M18+T18 -> 54.145 | AB18: =G18+N18+U18 -> 63.822 | AC18: 65.408 | AD18: =SUM(W18:AC18) -> 375.18643 | AF18: 66.2
A20: C. Financiering van domeinspecifieke onderzoeksprogramma's | B20: 58.075 | C20: 15.911 | D20: 22.557 | E20: 15.802 | F20: 21.62 | G20: 23.453359 | H20: 28.385 | I20: 0 | J20: 0 | L20: 0 | M20: 0 | N20: 0 | O20: 0 | P20: 0 | Q20: 5.754 | R20: 3.164 | S20: 5.979 | T20: 5.95 | U20: 4.986666 | V20: 0
A21: Artificiële intelligentie (AI) | B21: 14.585 | C21: 10 | D21: 11.707 | E21: 12.305 | F21: 12.2 | G21: 9.698938 | H21: 13.978 | L21: 0 | N21: 0 | O21: 0 | Q21: 1.404 | R21: 1.835 | S21: 2 | T21: 2 | U21: 4.396087 | V21: 0 | W21: =B21+I21+P21 -> 14.585 | X21: =C21+J21+Q21 -> 11.404 | Y21: =D21+K21+R21 -> 13.542 | Z21: =E21+L21+S21 -> 14.305 | AA21: =F21+M21+T21 -> 14.2 | AB21: =G21+N21+U21 -> 14.095025 | AC21: 14.024 | AD21: =SUM(W21:AC21) -> 96.155025 | AF21: 14
A22: AI/Cybersecurity (CS) | C22: 0 | D22: 2.85 | F22: 0 | J22: 0 | M22: 0 | Q22: 2.85 | S22: 2.65 | T22: 2.65 | W22: =B22+I22+P22 -> 0 | X22: =C22+J22+Q22 -> 2.85 | Y22: =D22+K22+R22 -> 2.85 | Z22: =E22+L22+S22 -> 2.65 | AA22: =F22+M22+T22 -> 2.65 | AB22: =G22+N22+U22 -> 0 | AC22: 0 | AD22: =SUM(W22:AC22) -> 11 | AF22: 0
A23: Cybersecurity | B23: 9.5 | C23: 5 | D23: 8 | E23: 1.497 | F23: 8 | G23: 8.984421 | H23: 9.576 | L23: 0 | O23: 0 | Q23: 1.5 | R23: 1.329 | S23: 1.329 | T23: 1.3 | U23: 0.590579 | V23: 0 | W23: =B23+I23+P23 -> 9.5 | X23: =C23+J23+Q23 -> 6.5 | Y23: =D23+K23+R23 -> 9.329 | Z23: =E23+L23+S23 -> 2.826 | AA23: =F23+M23+T23 -> 9.3 | AB23: =G23+N23+U23 -> 9.575 | AC23: 9.608 | AD23: =SUM(W23:AC23) -> 56.638 | AF23: 9.6
A24: RegMed | B24: 3.075 | C24: 0.911 | E24: 2 | G24: 3.302 | H24: 3.363 | I24: 0 | J24: 0 | N24: 0 | O24: 0 | P24: 0 | Q24: 0 | U24: 0 | V24: 0 | W24: =B24+I24+P24 -> 3.075 | X24: =C24+J24+Q24 -> 0.911 | Y24: =D24+K24+R24 -> 0 | Z24: =E24+L24+S24 -> 2 | AA24: =F24+M24+T24 -> 0 | AB24: =G24+N24+U24 -> 3.302 | AC24: 3.286 | AD24: =SUM(W24:AC24) -> 12.574 | AF24: 3.4
A25: FWO-domeinspecifiek/thematisch | W25: 0 | X25: 0 | Y25: 0.22 | Z25: 0.485 | AA25: 7.195 | AB25: 7.23 | AC25: 7.015 | AD25: =SUM(W25:AC25) -> 22.145 | AG25: Niet afzonderlijk vermeld
A27: II. VIA VLAIO
A28: AI | B28: 0 | C28: 7.5 | D28: 8.4 | E28: 7.5 | F28: 7.5 | G28: 7.5 | H28: 7.5 | J28: 0 | M28: 0 | N28: 0 | O28: 0 | Q28: 0 | T28: 0 | U28: 0 | V28: 0 | W28: =B28+I28+P28 -> 0 | X28: =C28+J28+Q28 -> 7.5 | Y28: =D28+K28+R28 -> 8.4 | Z28: =E28+L28+S28 -> 7.5 | AA28: =F28+M28+T28 -> 7.5 | AB28: =G28+N28+U28 -> 7.5 | AC28: =H28+O28+V28 -> 7.5 | AD28: =SUM(W28:AC28) -> 45.9 | AF28: 7.5
A29: AI/CS | G29: 0 | H29: 0 | N29: 0 | O29: 0 | U29: 2.65 | V29: 2.65 | W29: =B29+I29+P29 -> 0 | X29: =C29+J29+Q29 -> 0 | Y29: =D29+K29+R29 -> 0 | Z29: =E29+L29+S29 -> 0 | AA29: =F29+M29+T29 -> 0 | AB29: =G29+N29+U29 -> 2.65 | AC29: =H29+O29+V29 -> 2.65 | AD29: =SUM(W29:AC29) -> 5.3 | AF29: 2.65
A30: Baekeland-mandaten | B30: 17.752 | C30: 16.8 | D30: 16.8 | E30: 16.8 | F30: 16.8 | G30: 16.8 | H30: 16.8 | J30: 0 | M30: 0 | N30: 0 | O30: 0 | Q30: 0 | T30: 0 | U30: 0 | V30: 0 | W30: 14.34 | X30: 16.55 | Y30: 12.05 | Z30: 12.5 | AA30: 10.31 | AB30: 14.83 | AC30: 11.87 | AD30: =SUM(W30:AC30) -> 92.45 | AF30: 16.8
A31: Clusters (beperkt tot SBO in termen van toegekende steun) | B31: 23.046183 | C31: 32.564137 | D31: 41.496612 | E31: 36.150995 | F31: 33.46831 | G31: 45.416083 | H31: 8.89557 | J31: 0 | M31: 0 | N31: 0 | O31: 0 | Q31: 0 | T31: 0 | U31: 0 | V31: 0 | W31: 10.68 | X31: 13.45 | Y31: 21.5 | Z31: 16.76 | AA31: 23.01 | AB31: 24.3 | AC31: 33.8 | AD31: =SUM(W31:AC31) -> 143.5 | AF31: 20 | AG31: Raming op basis van vorige jaren en wijziging context vanaf 2026
A32: Projecten "Collectief O&O en Collectieve kennisverspreiding" (COOCK) | B32: 10 | C32: 9.6 | D32: 9.6 | E32: 9.6 | F32: 82.548 | G32: 9.6 | H32: 9.6 | J32: 0 | M32: 0 | N32: 0 | O32: 0 | Q32: 0 | T32: 0 | U32: 0 | V32: 0 | W32: 9.55 | X32: 10.6 | Y32: 8.19 | Z32: 2.595 | AA32: 15.1 | AB32: 15.89 | AC32: 12.83 | AD32: =SUM(W32:AC32) -> 74.755 | AF32: 9.6
A33: Cybersecurity | B33: 0 | C33: 8.4 | D33: 7.5 | E33: 8.4 | F33: 8.4 | G33: 8.4 | H33: 8.4 | J33: 0 | M33: 0 | N33: 0 | O33: 0 | Q33: 0 | T33: 0 | U33: 0 | V33: 0 | W33: =B33+I33+P33 -> 0 | X33: =C33+J33+Q33 -> 8.4 | Y33: =D33+K33+R33 -> 7.5 | Z33: =E33+L33+S33 -> 8.4 | AA33: =F33+M33+T33 -> 8.4 | AB33: =G33+N33+U33 -> 8.4 | AC33: =H33+O33+V33 -> 8.4 | AD33: =SUM(W33:AC33) -> 49.5 | AF33: 8.4
A34: Innovatiemandaten | B34: 9 | C34: 5.6 | D34: 5.6 | E34: 5.8 | F34: 6 | G34: 5.9 | H34: 5.9 | J34: 0 | M34: 0 | N34: 0 | O34: 0 | Q34: 0 | T34: 0 | U34: 0 | V34: 0 | W34: 4.13 | X34: 3.75 | Y34: 5.46 | Z34: 5.1 | AA34: 5.34 | AB34: 7.32 | AC34: 7.24 | AD34: =SUM(W34:AC34) -> 38.34 | AF34: 5.9
A35: Kennisdiffusie via Hogescholen | B35: 3 | C35: 0 | F35: 0 | G35: 0 | H35: 0 | I35: 0 | J35: 0 | M35: 0 | N35: 0 | O35: 0 | P35: 5 | Q35: 7.5 | R35: 7.5 | S35: 7.5 | T35: 7.5 | U35: 7.5 | V35: 8.38 | W35: =B35+I35+P35 -> 8 | X35: =C35+J35+Q35 -> 7.5 | Y35: =D35+K35+R35 -> 7.5 | Z35: =E35+L35+S35 -> 7.5 | AA35: =F35+M35+T35 -> 7.5 | AB35: =G35+N35+U35 -> 7.5 | AC35: =H35+O35+V35 -> 8.38 | AD35: =SUM(W35:AC35) -> 53.88 | AF35: 8.4
A36: Moonshots (toekomstgericht industrieel innovatieprogramma, toegekende steun) | E36: 20 | F36: 20 | G36: 20 | H36: 20 | M36: 0 | N36: 0 | O36: 0 | T36: 0 | U36: 0 | V36: 0 | W36: 12.36 | X36: 19.11 | Y36: 19.99 | Z36: 14.4 | AA36: 10.45 | AB36: 21.07 | AC36: 15.5 | AD36: =SUM(W36:AC36) -> 112.88 | AF36: 15
A37: TETRA (Programma voor praktijkgericht onderzoek door hogescholen en geïntegreerde opleidingen in de universiteiten voor ondernemingen en non-profitorganisaties) | B37: 9.586 | C37: 9.586 | D37: 9.586 | E37: 9.586 | F37: 9.586 | G37: 12.586 | H37: 12.586 | I37: 0 | J37: 0 | M37: 0 | N37: 0 | O37: 0 | P37: 0 | Q37: 0 | T37: 0 | U37: 0 | V37: 0 | W37: 9.25 | X37: 12.04 | Y37: 6 | Z37: 16.3 | AA37: 6.96 | AB37: 10.33 | AC37: 7.9 | AD37: =SUM(W37:AC37) -> 68.78 | AF37: 12.6
A40: III. VIA ANDERE BELEIDSDOMEINEN
A41: Praktijkgericht Wetenschappelijk Onderzoek (PWO) | B41: 29.324 | C41: 30.011 | D41: 30.471 | E41: 32.615897 | F41: 34.497184 | G41: 35.766261 | H41: 36.047857 | I41: 0 | J41: 0 | L41: 0 | M41: 0 | N41: 0 | O41: 0 | P41: 0 | Q41: 0 | S41: 0 | T41: 0 | U41: 0 | V41: 0 | W41: =B41+I41+P41 -> 29.324 | X41: =C41+J41+Q41 -> 30.011 | Y41: =D41+K41+R41 -> 30.471 | Z41: =E41+L41+S41 -> 32.615897 | AA41: =F41+M41+T41 -> 34.497184 | AB41: =G41+N41+U41 -> 35.766261 | AC41: 36.51 | AD41: =SUM(W41:AC41) -> 229.19534 | AF41: 36
W42: =SUM(W7:W41) -> 513.85522 | X42: =SUM(X7:X41) -> 544.3739 | Y42: =SUM(Y7:Y41) -> 560.62504 | Z42: =SUM(Z7:Z41) -> 616.04535 | AA42: =SUM(AA7:AA41) -> 666.56885 | AB42: =SUM(AB7:AB41) -> 711.58983 | AC42: =SUM(AC7:AC41) -> 723.15053 | AF42: =SUM(AF7:AF41) -> 728.675
P43: =SUM(P5:P41) -> 9.529 | Q43: =SUM(Q5:Q41) -> 23.502 | R43: =SUM(R5:R41) -> 18.322 | S43: =SUM(S5:S41) -> 23.952 | T43: =SUM(T5:T41) -> 25.347314 | U43: =SUM(U5:U41) -> 26.973332 | V43: =SUM(V5:V41) -> 20.999
A44: Gevat door UT organisatie financiering SBO | AC44: Totaal | AD44: =AD7+AD8+AD9+AD31+AD36 -> 917.1589
A45: Gevat door UT valorisatie O&O bij uniefs en hogescholen ten bate van de Vlaamse economie | AC45: Totaal | AD45: =SUM(AD21:AD24,AD28:AD29,AD30,AD32:AD34,AD35,AD37) -> 605.27202
A46: Gevat door beide UT | AC46: Totaal | AD46: =SUM(AD11:AD12,AD15:AD18,AD25,AD41) -> 2813.7778
AD47: =SUM(AD44:AD46) -> 4336.2087
